BEGIN:VCALENDAR
VERSION:2.0
PRODID:-//Atlanta Geological Society - ECPv6.15.20//NONSGML v1.0//EN
CALSCALE:GREGORIAN
METHOD:PUBLISH
X-WR-CALNAME:Atlanta Geological Society
X-ORIGINAL-URL:https://atlantageologicalsociety.org
X-WR-CALDESC:Events for Atlanta Geological Society
REFRESH-INTERVAL;VALUE=DURATION:PT1H
X-Robots-Tag:noindex
X-PUBLISHED-TTL:PT1H
BEGIN:VTIMEZONE
TZID:America/New_York
BEGIN:DAYLIGHT
TZOFFSETFROM:-0500
TZOFFSETTO:-0400
TZNAME:EDT
DTSTART:20200308T070000
END:DAYLIGHT
BEGIN:STANDARD
TZOFFSETFROM:-0400
TZOFFSETTO:-0500
TZNAME:EST
DTSTART:20201101T060000
END:STANDARD
BEGIN:DAYLIGHT
TZOFFSETFROM:-0500
TZOFFSETTO:-0400
TZNAME:EDT
DTSTART:20210314T070000
END:DAYLIGHT
BEGIN:STANDARD
TZOFFSETFROM:-0400
TZOFFSETTO:-0500
TZNAME:EST
DTSTART:20211107T060000
END:STANDARD
BEGIN:DAYLIGHT
TZOFFSETFROM:-0500
TZOFFSETTO:-0400
TZNAME:EDT
DTSTART:20220313T070000
END:DAYLIGHT
BEGIN:STANDARD
TZOFFSETFROM:-0400
TZOFFSETTO:-0500
TZNAME:EST
DTSTART:20221106T060000
END:STANDARD
END:VTIMEZONE
BEGIN:VEVENT
DTSTART;TZID=America/New_York:20210525T184500
DTEND;TZID=America/New_York:20210525T184500
DTSTAMP:20260422T180756
CREATED:20210618T172652Z
LAST-MODIFIED:20210618T172652Z
UID:1102-1621968300-1621968300@atlantageologicalsociety.org
SUMMARY:Monthly AGS Meeting: “U.S. Energy Sources: Where it has Changed in the Last Decade"
DESCRIPTION:“U.S. Energy Sources: Where it has Changed in the Last Decade”\npresented by Ron Wallace\, President of the Georgia Chapter of the American Association of Professional Geologists \nTuesday May 25\, 2021 6:45 PM Eastern Standard Daylight Savings Time\nBusiness Meeting:  6:45 PM – 7:00 PM\nPresentation:  7:00 PM\nJoin from the meeting link:  https://gsumeetings.webex.com/gsumeetings/j.php?MTID=m2de9a0f59d882cbeea9229311d11bca5
URL:https://atlantageologicalsociety.org/event/monthly-ags-meeting-u-s-energy-sources-where-it-has-changed-in-the-last-decade/
LOCATION:GA
END:VEVENT
END:VCALENDAR