BEGIN:VCALENDAR
VERSION:2.0
PRODID:-//Atlanta Geological Society - ECPv6.15.20//NONSGML v1.0//EN
CALSCALE:GREGORIAN
METHOD:PUBLISH
X-WR-CALNAME:Atlanta Geological Society
X-ORIGINAL-URL:https://atlantageologicalsociety.org
X-WR-CALDESC:Events for Atlanta Geological Society
REFRESH-INTERVAL;VALUE=DURATION:PT1H
X-Robots-Tag:noindex
X-PUBLISHED-TTL:PT1H
BEGIN:VTIMEZONE
TZID:America/New_York
BEGIN:DAYLIGHT
TZOFFSETFROM:-0500
TZOFFSETTO:-0400
TZNAME:EDT
DTSTART:20240310T070000
END:DAYLIGHT
BEGIN:STANDARD
TZOFFSETFROM:-0400
TZOFFSETTO:-0500
TZNAME:EST
DTSTART:20241103T060000
END:STANDARD
BEGIN:DAYLIGHT
TZOFFSETFROM:-0500
TZOFFSETTO:-0400
TZNAME:EDT
DTSTART:20250309T070000
END:DAYLIGHT
BEGIN:STANDARD
TZOFFSETFROM:-0400
TZOFFSETTO:-0500
TZNAME:EST
DTSTART:20251102T060000
END:STANDARD
BEGIN:DAYLIGHT
TZOFFSETFROM:-0500
TZOFFSETTO:-0400
TZNAME:EDT
DTSTART:20260308T070000
END:DAYLIGHT
BEGIN:STANDARD
TZOFFSETFROM:-0400
TZOFFSETTO:-0500
TZNAME:EST
DTSTART:20261101T060000
END:STANDARD
BEGIN:DAYLIGHT
TZOFFSETFROM:-0500
TZOFFSETTO:-0400
TZNAME:EDT
DTSTART:20270314T070000
END:DAYLIGHT
BEGIN:STANDARD
TZOFFSETFROM:-0400
TZOFFSETTO:-0500
TZNAME:EST
DTSTART:20271107T060000
END:STANDARD
END:VTIMEZONE
BEGIN:VEVENT
DTSTART;TZID=America/New_York:20250601T100000
DTEND;TZID=America/New_York:20250601T140000
DTSTAMP:20260423T124949
CREATED:20250515T030121Z
LAST-MODIFIED:20250515T030121Z
UID:2836-1748772000-1748786400@atlantageologicalsociety.org
SUMMARY:Field trip to explore Brevard Zone in Metro Atlanta
DESCRIPTION:The Brevard Zone is a classic mylonite zone extending from Alabama nearly to Virginia. Within it are deformed rocks of many different mineral compositions. Register at this link for the June 1 AGS trip examining contrasting rock types at 4 outcrops\, to my knowledge never before visited by any geological society field trip. \nTime: 10-AM to about 2 PM\, Sunday\, June 1 \nWhere to meet: Blue Heron Nature Preserve\, 4055 Roswell Rd NE\, Atlanta\, GA 30342 \nWhat to bring: sack lunch\, outdoor wear\, sunscreen\, hammers and eye protection. \nPlease register at this link by completing a waiver. \nAs soon as everyone has checked in at Blue Heron\, we will drive in fewer cars 1 mile to a smaller lot in Chastain Park off Lake Forrest Drive. There we look at two exposures of a quartz-feldspar-rich rock. The exposure across the road from the park shows prominent feldspar porphyroclasts. Returning to Blue Heron\, we will examine a decent outcrop of the ordinarily poorly exposed “button schist” lithology traced for more than a hundred miles along the zone. \nAfter a lunch break\, we’ll drive 6 miles to the Perimeter Center Parkway bridge over I-285\, which overlooks a gigantic new cut in Long Island Gneiss\, a unit that persists from here well into Alabama. Although we view the big cut through a fence\, there are a couple of hundred feet of road cut along the street to see this uniform rock type interrupted by a few granitic dikes. \nThe final stop\, 14 miles east\, is the pair of nearly 1000-foot-long road cuts accessible along the sidewalks that line Pleasant Hill Road in Duluth. This site features on p. 298 of Roadside Geology of Georgia. It lies within a unit that Higgins et al. (2003) mapped as “button schist and sheared amphibolite” (POms). Our thin sections confirm the presence of hornblende in this outcrop. \nAs mentioned in previous newsletters\, you can find photomicrographs from three of the stops in the AGS Fieldtrips Folder on Google Drive. They are in the 2025PhotomicrographsForTrips.pdf file. Feel free to add comments and questions there. By field trip time\, we should also have thin sections from the Perimeter Center Parkway stop.
URL:https://atlantageologicalsociety.org/event/field-trip-to-explore-brevard-zone-in-metro-atlanta/
LOCATION:GA
END:VEVENT
BEGIN:VEVENT
DTSTART;TZID=America/New_York:20250624T180000
DTEND;TZID=America/New_York:20250624T200000
DTSTAMP:20260423T124949
CREATED:20250215T142653Z
LAST-MODIFIED:20250215T142653Z
UID:2783-1750788000-1750795200@atlantageologicalsociety.org
SUMMARY:AGS BBQ Social
DESCRIPTION:
URL:https://atlantageologicalsociety.org/event/ags-bbq-social/
LOCATION:Fernbank Museum\, 767 Clifton Rd\, Atlanta\, GA\, 30307\, United States
END:VEVENT
BEGIN:VEVENT
DTSTART;TZID=America/New_York:20250819T180000
DTEND;TZID=America/New_York:20250819T200000
DTSTAMP:20260423T124949
CREATED:20250215T145008Z
LAST-MODIFIED:20250215T145008Z
UID:2799-1755626400-1755633600@atlantageologicalsociety.org
SUMMARY:AGS Executive Board Meeting - August 2025
DESCRIPTION:The AGS executive committee\, consisting of officers and committee chairs\, will meet via zoom. Contact Scott Harris to get zoom link if you are interested in participating: gageologist@gmail.com
URL:https://atlantageologicalsociety.org/event/ags-executive-board-meeting-august-2025/
LOCATION:Online via Zoom
END:VEVENT
BEGIN:VEVENT
DTSTART;TZID=America/New_York:20250826T180000
DTEND;TZID=America/New_York:20250826T200000
DTSTAMP:20260423T124949
CREATED:20250215T142754Z
LAST-MODIFIED:20250215T142754Z
UID:2785-1756231200-1756238400@atlantageologicalsociety.org
SUMMARY:AGS Monthly Meeting - August 2025
DESCRIPTION:
URL:https://atlantageologicalsociety.org/event/ags-monthly-meeting-august-2025/
LOCATION:Fernbank Museum\, 767 Clifton Rd\, Atlanta\, GA\, 30307\, United States
END:VEVENT
BEGIN:VEVENT
DTSTART;TZID=America/New_York:20250927T100000
DTEND;TZID=America/New_York:20250927T120000
DTSTAMP:20260423T124949
CREATED:20250914T185603Z
LAST-MODIFIED:20250914T192014Z
UID:2859-1758967200-1758974400@atlantageologicalsociety.org
SUMMARY:PG Exam Workshop via Zoom
DESCRIPTION:The next PG Exam workshop will be held on September 27 via zoom link and will provide a general overview of geologic topics to be included on the October 2 & 3 tests. \nTo signup for the workshop click here
URL:https://atlantageologicalsociety.org/event/pg-exam-workshop-via-zoom/
LOCATION:GA
END:VEVENT
BEGIN:VEVENT
DTSTART;TZID=America/New_York:20250930T180000
DTEND;TZID=America/New_York:20250930T200000
DTSTAMP:20260423T124949
CREATED:20250215T143414Z
LAST-MODIFIED:20250215T143414Z
UID:2790-1759255200-1759262400@atlantageologicalsociety.org
SUMMARY:AGS Monthly Meeting - September 2025
DESCRIPTION:
URL:https://atlantageologicalsociety.org/event/ags-monthly-meeting-september-2025/
LOCATION:Fernbank Museum\, 767 Clifton Rd\, Atlanta\, GA\, 30307\, United States
END:VEVENT
BEGIN:VEVENT
DTSTART;TZID=America/New_York:20251026T183000
DTEND;TZID=America/New_York:20251026T193000
DTSTAMP:20260423T124949
CREATED:20250215T145157Z
LAST-MODIFIED:20251014T173941Z
UID:2801-1761503400-1761507000@atlantageologicalsociety.org
SUMMARY:AGS Executive Board Meeting - October 26\, 2025
DESCRIPTION:The AGS executive committee\, consisting of officers and committee chairs\, will meet via zoom. Contact Scott Harris to get zoom link if you are interested in participating: gageologist@gmail.com
URL:https://atlantageologicalsociety.org/event/ags-executive-board-meeting-november-2025/
LOCATION:Online via Zoom
END:VEVENT
BEGIN:VEVENT
DTSTART;TZID=America/New_York:20251028T180000
DTEND;TZID=America/New_York:20251028T200000
DTSTAMP:20260423T124949
CREATED:20250215T143515Z
LAST-MODIFIED:20251013T193849Z
UID:2792-1761674400-1761681600@atlantageologicalsociety.org
SUMMARY:AGS Monthly Meeting - October 2025
DESCRIPTION:
URL:https://atlantageologicalsociety.org/event/ags-monthly-meeting-october-2025/
LOCATION:Fernbank Museum\, 767 Clifton Rd\, Atlanta\, GA\, 30307\, United States
END:VEVENT
BEGIN:VEVENT
DTSTART;TZID=America/New_York:20251101T100000
DTEND;TZID=America/New_York:20251101T120000
DTSTAMP:20260423T124949
CREATED:20251012T192519Z
LAST-MODIFIED:20251012T192519Z
UID:2892-1761991200-1761998400@atlantageologicalsociety.org
SUMMARY:PG Workshop
DESCRIPTION:
URL:https://atlantageologicalsociety.org/event/pg-workshop-2/
LOCATION:GA
END:VEVENT
BEGIN:VEVENT
DTSTART;TZID=America/New_York:20251125T180000
DTEND;TZID=America/New_York:20251125T200000
DTSTAMP:20260423T124949
CREATED:20250215T143615Z
LAST-MODIFIED:20251111T144359Z
UID:2794-1764093600-1764100800@atlantageologicalsociety.org
SUMMARY:AGS Monthly Meeting and Election - November 2025
DESCRIPTION:
URL:https://atlantageologicalsociety.org/event/ags-monthly-meeting-and-election-november-2025/
LOCATION:Fernbank Museum\, 767 Clifton Rd\, Atlanta\, GA\, 30307\, United States
END:VEVENT
BEGIN:VEVENT
DTSTART;TZID=America/New_York:20251220T100000
DTEND;TZID=America/New_York:20251220T120000
DTSTAMP:20260423T124949
CREATED:20251116T141940Z
LAST-MODIFIED:20251116T141940Z
UID:2912-1766224800-1766232000@atlantageologicalsociety.org
SUMMARY:PG Workshop - Dec 2025
DESCRIPTION:Zoom class\nTopic: Petrology and Microscopy \nInstructor: Steve Stowkowski \nTo signup and obtain zoom link: Click Here
URL:https://atlantageologicalsociety.org/event/pg-workshop-dec-2025/
LOCATION:GA
END:VEVENT
BEGIN:VEVENT
DTSTART;TZID=America/New_York:20260127T180000
DTEND;TZID=America/New_York:20260127T200000
DTSTAMP:20260423T124949
CREATED:20260114T223159Z
LAST-MODIFIED:20260115T121413Z
UID:2926-1769536800-1769544000@atlantageologicalsociety.org
SUMMARY:AGS Monthly Meeting--January 27\, 2026
DESCRIPTION:
URL:https://atlantageologicalsociety.org/event/ags-monthly-meeting-27/
LOCATION:Fernbank Museum\, 767 Clifton Rd\, Atlanta\, GA\, 30307\, United States
END:VEVENT
BEGIN:VEVENT
DTSTART;TZID=America/New_York:20260214T080000
DTEND;TZID=America/New_York:20260214T170000
DTSTAMP:20260423T124949
CREATED:20260201T190629Z
LAST-MODIFIED:20260201T190851Z
UID:2951-1771056000-1771088400@atlantageologicalsociety.org
SUMMARY:AGS Field Trip-Roosevelt Impact Structure
DESCRIPTION:To Register Click Here. You will be added to mailing list to receive details on where and when to meet in Macon.
URL:https://atlantageologicalsociety.org/event/ags-field-trip-roosevelt-impact-structure/
LOCATION:Macon\, Georgia
END:VEVENT
BEGIN:VEVENT
DTSTART;TZID=America/New_York:20260224T180000
DTEND;TZID=America/New_York:20260224T200000
DTSTAMP:20260423T124949
CREATED:20260115T121255Z
LAST-MODIFIED:20260129T205420Z
UID:2930-1771956000-1771963200@atlantageologicalsociety.org
SUMMARY:AGS Monthly Meeting--February 24\, 2026
DESCRIPTION:When: Feb 24\, 2026\n6pm–social hour and snacks\n7pm–meeting starts
URL:https://atlantageologicalsociety.org/event/ags-monthly-meeting-february-24-2026/
LOCATION:Fernbank Museum\, 767 Clifton Rd\, Atlanta\, GA\, 30307\, United States
END:VEVENT
BEGIN:VEVENT
DTSTART;TZID=America/New_York:20260322T100000
DTEND;TZID=America/New_York:20260322T130000
DTSTAMP:20260423T124949
CREATED:20260317T170409Z
LAST-MODIFIED:20260317T170409Z
UID:2983-1774173600-1774184400@atlantageologicalsociety.org
SUMMARY:Field Trip to Explore Cascade Springs and Boat Rock
DESCRIPTION:The 125-acre park at Cascade Springs can pack a lot into a short visit. Mapped by Higgins et al. (2003) as Wahoo Creek Formation\, and close to both the Lithonia (aka Norcross) Gneiss and Ben Hill Granite\, this park has interesting opportunities for not only geological study\, but also for anthropologic\, botanical\, and ecological interests. A little further west\, the urban boulder field of Boat Rock in the Ben Hill Granite may pique one’s interest in the unusual setting (if you’re there to study the beautiful crystalline granite) or test one’s physique (if you’re there attempting to climb above your skill level to impress your friends). Register at the link below for the March 22 AGS field trip examining these areas (an AGS-first!).\nRegistration: Participation Waiver \nWhen: 10:00 to about 1:00\, Sunday March 22 \nWhere to meet: Cascade Springs Nature Preserve Parking Lot \nWhat to bring: Lunch\, water\, outdoor wear\, sunscreen\, hand lens \nRestrooms: No restrooms available\, plan to stop before\, between\, and after locations as necessary \n Hiking notes: \n\nHilly topography along the trails at Cascade Springs.\nLook out below! When exploring Boat Rock\, be mindful of rock climbers.\n\nAs soon as everyone has parked\, we will begin our hike from the parking lot along the nature trail. We will start by viewing and noting outcrops along Utoy Creek Trail\, from which Bill Witherspoon and I collected samples for photomicrography. From there\, we will continue to an area with granite boulders and contrast what we see in hand samples with differences that were revealed in thin section. Our next stop will be Cascade Falls\, noting the change to a more metamorphic structure and again comparing hand samples to samples that Bill and I collected. We will conclude our time at Cascade Springs with lunch and then travel to Boat Rock Nature Preserve\, a 20-minute drive west. If the weather is nice\, we will certainly be sharing space at Boat Rock with several climbers. Here\, you will find the remnants of an exposed ridge\, which has been mostly eroded\, leaving behind giant granite boulders of the Ben Hill Granite.
URL:https://atlantageologicalsociety.org/event/field-trip-to-explore-cascade-springs-and-boat-rock/
LOCATION:GA
END:VEVENT
BEGIN:VEVENT
DTSTART;TZID=America/New_York:20260331T180000
DTEND;TZID=America/New_York:20260331T200000
DTSTAMP:20260423T124949
CREATED:20260313T150256Z
LAST-MODIFIED:20260313T150256Z
UID:2976-1774980000-1774987200@atlantageologicalsociety.org
SUMMARY:AGS Monthly Meeting
DESCRIPTION:
URL:https://atlantageologicalsociety.org/event/ags-monthly-meeting-28/
LOCATION:Fernbank Museum\, 767 Clifton Rd\, Atlanta\, GA\, 30307\, United States
END:VEVENT
BEGIN:VEVENT
DTSTART;TZID=America/New_York:20260331T180000
DTEND;TZID=America/New_York:20260331T203000
DTSTAMP:20260423T124949
CREATED:20260201T191513Z
LAST-MODIFIED:20260201T191513Z
UID:2956-1774980000-1774989000@atlantageologicalsociety.org
SUMMARY:AGS Monthly Meeting - March 2026
DESCRIPTION:March 31\, 2026\, 6pm: AGS monthly meeting\, Fernbank Museum of Natural History. Speaker: to be determined.
URL:https://atlantageologicalsociety.org/event/ags-monthly-meeting-march-2026/
LOCATION:Fernbank Museum\, 767 Clifton Rd\, Atlanta\, GA\, 30307\, United States
END:VEVENT
BEGIN:VEVENT
DTSTART;TZID=America/New_York:20260428T180000
DTEND;TZID=America/New_York:20260428T200000
DTSTAMP:20260423T124949
CREATED:20260414T215412Z
LAST-MODIFIED:20260414T215412Z
UID:2988-1777399200-1777406400@atlantageologicalsociety.org
SUMMARY:AGS Monthly Meeting
DESCRIPTION:
URL:https://atlantageologicalsociety.org/event/ags-monthly-meeting-29/
LOCATION:Fernbank Museum\, 767 Clifton Rd\, Atlanta\, GA\, 30307\, United States
END:VEVENT
END:VCALENDAR