BEGIN:VCALENDAR
VERSION:2.0
PRODID:-//Atlanta Geological Society - ECPv6.15.20//NONSGML v1.0//EN
CALSCALE:GREGORIAN
METHOD:PUBLISH
X-ORIGINAL-URL:https://atlantageologicalsociety.org
X-WR-CALDESC:Events for Atlanta Geological Society
REFRESH-INTERVAL;VALUE=DURATION:PT1H
X-Robots-Tag:noindex
X-PUBLISHED-TTL:PT1H
BEGIN:VTIMEZONE
TZID:America/New_York
BEGIN:DAYLIGHT
TZOFFSETFROM:-0500
TZOFFSETTO:-0400
TZNAME:EDT
DTSTART:20200308T070000
END:DAYLIGHT
BEGIN:STANDARD
TZOFFSETFROM:-0400
TZOFFSETTO:-0500
TZNAME:EST
DTSTART:20201101T060000
END:STANDARD
BEGIN:DAYLIGHT
TZOFFSETFROM:-0500
TZOFFSETTO:-0400
TZNAME:EDT
DTSTART:20210314T070000
END:DAYLIGHT
BEGIN:STANDARD
TZOFFSETFROM:-0400
TZOFFSETTO:-0500
TZNAME:EST
DTSTART:20211107T060000
END:STANDARD
BEGIN:DAYLIGHT
TZOFFSETFROM:-0500
TZOFFSETTO:-0400
TZNAME:EDT
DTSTART:20220313T070000
END:DAYLIGHT
BEGIN:STANDARD
TZOFFSETFROM:-0400
TZOFFSETTO:-0500
TZNAME:EST
DTSTART:20221106T060000
END:STANDARD
END:VTIMEZONE
BEGIN:VEVENT
DTSTART;TZID=America/New_York:20210831T183000
DTEND;TZID=America/New_York:20210831T200000
DTSTAMP:20260419T082758
CREATED:20210815T141940Z
LAST-MODIFIED:20210815T144442Z
UID:1936-1630434600-1630440000@atlantageologicalsociety.org
SUMMARY:AGS Annual BBQ Social
DESCRIPTION:Come join us as we resume our in-person meetings for some great food and fun! Door prizes\, giant screen movie and socializing in person! \nNOTE: T-shirt orders will be available for pickup at the dinner \nWhen: Tuesday\, August 31\, 2021\, 630pm \nWhere: Fernbank Museum \nCost: Members Free; Guests $5 \nReservations: Please make your reservation using this link Reservations \nDoor prizes: Please bring items to give away as door prizes. These can be geology books\, maps\, samples\, rocks\, fossils\, company swag or an endless list of other things that might interest AGS members and friends. Tag you donation as “Mature” if you feel the gift is best suited for an adult or “Youth” for our young guests. Note: Thanks to Michael Peck there will be a book fair giveaway\, featuring a wide variety of historic GGS publications. \nSponsors: Thanks to Golder Associates for signing up to be a sponsor of the annual dinner.
URL:https://atlantageologicalsociety.org/event/ags-annual-bbq-social/
LOCATION:Fernbank Museum\, 767 Clifton Rd\, Atlanta\, GA\, 30307\, United States
CATEGORIES:Social
ATTACH;FMTTYPE=image/jpeg:https://atlantageologicalsociety.org/wp-content/uploads/2021/07/pig.jpg
END:VEVENT
END:VCALENDAR